BEGIN:VCALENDAR
VERSION:2.0
PRODID:-//mana&#039;s green - ECPv5.2.1//NONSGML v1.0//EN
CALSCALE:GREGORIAN
METHOD:PUBLISH
X-WR-CALNAME:mana&#039;s green
X-ORIGINAL-URL:https://manasgreen.net
X-WR-CALDESC:mana&#039;s green のイベント
BEGIN:VTIMEZONE
TZID:Asia/Tokyo
BEGIN:STANDARD
TZOFFSETFROM:+0900
TZOFFSETTO:+0900
TZNAME:JST
DTSTART:20180101T000000
END:STANDARD
END:VTIMEZONE
BEGIN:VEVENT
DTSTART;TZID=Asia/Tokyo:20180609T110000
DTEND;TZID=Asia/Tokyo:20180610T183000
DTSTAMP:20260420T142909
CREATED:20180606T051735Z
LAST-MODIFIED:20180606T052058Z
UID:3070-1528542000-1528655400@manasgreen.net
SUMMARY:GO GREEN MARKET 出店！！ お店はお休みです。
DESCRIPTION:http://www.marineandwalk.jp/items/GM_poster_web_0605.pdf
URL:https://manasgreen.net/day/go-green-market-%e5%87%ba%e5%ba%97%e4%ba%88%e5%ae%9a
END:VEVENT
END:VCALENDAR