BEGIN:VCALENDAR
VERSION:2.0
PRODID:-//mana&#039;s green - ECPv5.2.1//NONSGML v1.0//EN
CALSCALE:GREGORIAN
METHOD:PUBLISH
X-WR-CALNAME:mana&#039;s green
X-ORIGINAL-URL:https://manasgreen.net
X-WR-CALDESC:mana&#039;s green のイベント
BEGIN:VTIMEZONE
TZID:Asia/Tokyo
BEGIN:STANDARD
TZOFFSETFROM:+0900
TZOFFSETTO:+0900
TZNAME:JST
DTSTART:20190101T000000
END:STANDARD
END:VTIMEZONE
BEGIN:VEVENT
DTSTART;VALUE=DATE:20190924
DTEND;VALUE=DATE:20190925
DTSTAMP:20260420T125656
CREATED:20190910T015351Z
LAST-MODIFIED:20190910T015848Z
UID:4964-1569283200-1569369599@manasgreen.net
SUMMARY:mana's  green 振替休業
DESCRIPTION:
URL:https://manasgreen.net/day/manas-green-%e8%87%a8%e6%99%82%e4%bc%91%e6%a5%ad-5
END:VEVENT
END:VCALENDAR